Package: Rarr Version: 1.6.0 Command: /Library/Frameworks/R.framework/Resources/bin/R CMD INSTALL Rarr StartedAt: 2025-02-03 15:52:20 -0500 (Mon, 03 Feb 2025) EndedAt: 2025-02-03 15:54:24 -0500 (Mon, 03 Feb 2025) EllapsedTime: 124.3 seconds RetCode: 0 Status: OK