Package: Rarr
Version: 1.6.0
Command: /home/biocbuild/bbs-3.20-bioc/R/bin/R CMD check --install=check:Rarr.install-out.txt --library=/home/biocbuild/bbs-3.20-bioc/R/site-library --timings Rarr_1.6.0.tar.gz
StartedAt: 2025-02-18 01:16:20 -0500 (Tue, 18 Feb 2025)
EndedAt: 2025-02-18 01:18:39 -0500 (Tue, 18 Feb 2025)
EllapsedTime: 139.2 seconds
RetCode: 0
Status: OK
CheckDir: Rarr.Rcheck
Warnings: 0