Package: Rarr Version: 1.6.0 Command: chmod a+r Rarr -R && F:\biocbuild\bbs-3.20-bioc\R\bin\R.exe CMD build --keep-empty-dirs --no-resave-data Rarr StartedAt: 2025-02-03 21:30:20 -0500 (Mon, 03 Feb 2025) EndedAt: 2025-02-03 21:34:59 -0500 (Mon, 03 Feb 2025) EllapsedTime: 278.5 seconds RetCode: 0 Status: OK PackageFile: Rarr_1.6.0.tar.gz PackageFileSize: 1.633 MiB