Package: RbcBook1 Version: 1.74.0 Command: /Library/Frameworks/R.framework/Resources/bin/R CMD check --install=check:RbcBook1.install-out.txt --library=/Library/Frameworks/R.framework/Resources/library --no-vignettes --timings RbcBook1_1.74.0.tar.gz StartedAt: 2025-02-05 06:44:34 -0500 (Wed, 05 Feb 2025) EndedAt: 2025-02-05 06:45:10 -0500 (Wed, 05 Feb 2025) EllapsedTime: 36.3 seconds RetCode: 0 Status: OK CheckDir: RbcBook1.Rcheck Warnings: 0