Package: RbcBook1 Version: 1.74.0 Command: F:\biocbuild\bbs-3.20-bioc\R\bin\R.exe CMD INSTALL RbcBook1 StartedAt: 2025-02-03 15:37:50 -0500 (Mon, 03 Feb 2025) EndedAt: 2025-02-03 15:38:05 -0500 (Mon, 03 Feb 2025) EllapsedTime: 15.4 seconds RetCode: 0 Status: OK