Package: Rbec Version: 1.14.0 Command: rm -rf Rbec.buildbin-libdir && mkdir Rbec.buildbin-libdir && /Users/biocbuild/BBS/utils/build-universal.sh Rbec_1.14.0.tar.gz /Library/Frameworks/R.framework/Resources/bin/R Rbec.buildbin-libdir StartedAt: 2025-01-31 13:27:56 -0500 (Fri, 31 Jan 2025) EndedAt: 2025-01-31 13:29:22 -0500 (Fri, 31 Jan 2025) EllapsedTime: 85.9 seconds RetCode: 0 Status: OK PackageFile: Rbec_1.14.0.tgz PackageFileSize: 1.529 MiB