Package: Rbec Version: 1.14.0 Command: /home/biocbuild/bbs-3.20-bioc/R/bin/R CMD build --keep-empty-dirs --no-resave-data --md5 Rbec StartedAt: 2025-01-30 18:43:50 -0500 (Thu, 30 Jan 2025) EndedAt: 2025-01-30 18:45:06 -0500 (Thu, 30 Jan 2025) EllapsedTime: 76.1 seconds RetCode: 0 Status: OK PackageFile: Rbec_1.14.0.tar.gz PackageFileSize: 1.468 MiB