Package: Rbwa Version: 1.10.0 Command: rm -rf Rbwa.buildbin-libdir && mkdir Rbwa.buildbin-libdir && /Users/biocbuild/BBS/utils/build-universal.sh Rbwa_1.10.0.tar.gz /Library/Frameworks/R.framework/Resources/bin/R Rbwa.buildbin-libdir StartedAt: 2025-02-05 17:18:35 -0500 (Wed, 05 Feb 2025) EndedAt: 2025-02-05 17:18:53 -0500 (Wed, 05 Feb 2025) EllapsedTime: 18.2 seconds RetCode: 0 Status: OK PackageFile: Rbwa_1.10.0.tgz PackageFileSize: 633.3 KiB