Package: Rbwa Version: 1.10.0 Command: /Library/Frameworks/R.framework/Resources/bin/R CMD INSTALL Rbwa StartedAt: 2025-02-03 15:12:01 -0500 (Mon, 03 Feb 2025) EndedAt: 2025-02-03 15:12:17 -0500 (Mon, 03 Feb 2025) EllapsedTime: 15.8 seconds RetCode: 0 Status: OK