Package: Rbwa Version: 1.10.0 Command: /home/biocbuild/bbs-3.20-bioc/R/bin/R CMD build --keep-empty-dirs --no-resave-data --md5 Rbwa StartedAt: 2025-02-03 18:54:05 -0500 (Mon, 03 Feb 2025) EndedAt: 2025-02-03 18:54:24 -0500 (Mon, 03 Feb 2025) EllapsedTime: 19.0 seconds RetCode: 0 Status: OK PackageFile: Rbwa_1.10.0.tar.gz PackageFileSize: 654.4 KiB