Package: RcisTarget Version: 1.26.0 Command: /home/biocbuild/bbs-3.20-bioc/R/bin/R CMD build --keep-empty-dirs --no-resave-data --md5 RcisTarget StartedAt: 2025-02-03 18:54:25 -0500 (Mon, 03 Feb 2025) EndedAt: 2025-02-03 18:55:47 -0500 (Mon, 03 Feb 2025) EllapsedTime: 82.1 seconds RetCode: 0 Status: OK PackageFile: RcisTarget_1.26.0.tar.gz PackageFileSize: 12.8 MiB