Package: RcisTarget
Version: 1.25.0
Command: C:\Users\biocbuild\bbs-3.20-bioc\R\bin\R.exe CMD INSTALL RcisTarget
StartedAt: 2024-07-15 15:58:42 -0400 (Mon, 15 Jul 2024)
EndedAt: 2024-07-15 15:59:29 -0400 (Mon, 15 Jul 2024)
EllapsedTime: 46.8 seconds
RetCode: 0
Status: OK