Package: RcisTarget Version: 1.26.0 Command: rm -rf RcisTarget.buildbin-libdir && mkdir RcisTarget.buildbin-libdir && F:\biocbuild\bbs-3.20-bioc\R\bin\R.exe CMD INSTALL --build --library=RcisTarget.buildbin-libdir RcisTarget_1.26.0.tar.gz StartedAt: 2025-02-04 09:17:20 -0500 (Tue, 04 Feb 2025) EndedAt: 2025-02-04 09:18:41 -0500 (Tue, 04 Feb 2025) EllapsedTime: 81.0 seconds RetCode: 0 Status: OK PackageFile: RcisTarget_1.26.0.zip PackageFileSize: 12.82 MiB