Package: Rcollectl
Version: 1.6.0
Command: /home/biocbuild/bbs-3.20-bioc/R/bin/R CMD INSTALL Rcollectl
StartedAt: 2025-02-13 15:14:14 -0500 (Thu, 13 Feb 2025)
EndedAt: 2025-02-13 15:14:17 -0500 (Thu, 13 Feb 2025)
EllapsedTime: 3.6 seconds
RetCode: 0
Status: OK