Package: Rcpi
Version: 1.42.0
Command: /Library/Frameworks/R.framework/Resources/bin/R CMD build --keep-empty-dirs --no-resave-data Rcpi
StartedAt: 2024-11-19 18:18:13 -0500 (Tue, 19 Nov 2024)
EndedAt: 2024-11-19 18:18:45 -0500 (Tue, 19 Nov 2024)
EllapsedTime: 31.8 seconds
RetCode: 0
Status: OK
PackageFile: Rcpi_1.42.0.tar.gz
PackageFileSize: 2.97 <A href="http://en.wikipedia.org/wiki/MiB" target="_blank">MiB</A>