Package: Rcpi Version: 1.42.0 Command: /home/biocbuild/bbs-3.20-bioc/R/bin/R CMD INSTALL Rcpi StartedAt: 2025-02-03 15:30:04 -0500 (Mon, 03 Feb 2025) EndedAt: 2025-02-03 15:30:19 -0500 (Mon, 03 Feb 2025) EllapsedTime: 15.1 seconds RetCode: 0 Status: OK