Package: Rcpi
Version: 1.41.0
Command: rm -rf Rcpi.buildbin-libdir && mkdir Rcpi.buildbin-libdir && F:\biocbuild\bbs-3.20-bioc\R\bin\R.exe CMD INSTALL --build --library=Rcpi.buildbin-libdir Rcpi_1.41.0.tar.gz
StartedAt: 2024-06-10 14:44:37 -0400 (Mon, 10 Jun 2024)
EndedAt: 2024-06-10 14:46:09 -0400 (Mon, 10 Jun 2024)
EllapsedTime: 92.8 seconds
RetCode: 0
Status: OK
PackageFile: Rcpi_1.41.0.zip
PackageFileSize: 2.574 <A href="http://en.wikipedia.org/wiki/MiB" target="_blank">MiB</A>