Package: Rcwl Version: 1.22.0 Command: /Library/Frameworks/R.framework/Resources/bin/R CMD build --keep-empty-dirs --no-resave-data Rcwl StartedAt: 2025-02-03 21:35:21 -0500 (Mon, 03 Feb 2025) EndedAt: 2025-02-03 21:36:54 -0500 (Mon, 03 Feb 2025) EllapsedTime: 93.1 seconds RetCode: 0 Status: OK PackageFile: Rcwl_1.22.0.tar.gz PackageFileSize: 1.024 MiB