Package: Rcwl Version: 1.22.0 Command: /home/biocbuild/bbs-3.20-bioc/R/bin/R CMD build --keep-empty-dirs --no-resave-data --md5 Rcwl StartedAt: 2025-02-03 18:55:00 -0500 (Mon, 03 Feb 2025) EndedAt: 2025-02-03 18:55:34 -0500 (Mon, 03 Feb 2025) EllapsedTime: 34.0 seconds RetCode: 0 Status: OK PackageFile: Rcwl_1.22.0.tar.gz PackageFileSize: 1.027 MiB