Package: Rcwl Version: 1.22.0 Command: /home/biocbuild/R/R/bin/R CMD build --keep-empty-dirs --no-resave-data Rcwl StartedAt: 2025-02-04 02:08:39 -0000 (Tue, 04 Feb 2025) EndedAt: 2025-02-04 02:09:27 -0000 (Tue, 04 Feb 2025) EllapsedTime: 48.1 seconds RetCode: 0 Status: OK PackageFile: Rcwl_1.22.0.tar.gz PackageFileSize: 1.336 MiB