Package: RcwlPipelines Version: 1.22.0 Command: /Library/Frameworks/R.framework/Resources/bin/R CMD build --keep-empty-dirs --no-resave-data RcwlPipelines StartedAt: 2025-01-27 21:51:13 -0500 (Mon, 27 Jan 2025) EndedAt: 2025-01-27 21:52:36 -0500 (Mon, 27 Jan 2025) EllapsedTime: 83.3 seconds RetCode: 0 Status: OK PackageFile: RcwlPipelines_1.22.0.tar.gz PackageFileSize: 877.4 KiB