Package: RcwlPipelines Version: 1.22.0 Command: /home/biocbuild/R/R/bin/R CMD INSTALL RcwlPipelines StartedAt: 2025-02-03 21:23:58 -0000 (Mon, 03 Feb 2025) EndedAt: 2025-02-03 21:24:15 -0000 (Mon, 03 Feb 2025) EllapsedTime: 17.5 seconds RetCode: 0 Status: OK