Package: Rdisop Version: 1.66.0 Command: rm -rf Rdisop.buildbin-libdir && mkdir Rdisop.buildbin-libdir && /Users/biocbuild/BBS/utils/build-universal.sh Rdisop_1.66.0.tar.gz /Library/Frameworks/R.framework/Resources/bin/R Rdisop.buildbin-libdir StartedAt: 2025-02-18 12:50:36 -0500 (Tue, 18 Feb 2025) EndedAt: 2025-02-18 12:51:56 -0500 (Tue, 18 Feb 2025) EllapsedTime: 80.3 seconds RetCode: 0 Status: OK PackageFile: Rdisop_1.66.0.tgz PackageFileSize: 206.8 <A href="http://en.wikipedia.org/wiki/KiB" target="_blank">KiB</A>