Package: Rdisop Version: 1.66.0 Command: /home/biocbuild/bbs-3.20-bioc/R/bin/R CMD INSTALL Rdisop StartedAt: 2025-02-17 15:11:50 -0500 (Mon, 17 Feb 2025) EndedAt: 2025-02-17 15:12:30 -0500 (Mon, 17 Feb 2025) EllapsedTime: 40.3 seconds RetCode: 0 Status: OK