Package: Rdisop Version: 1.66.0 Command: rm -rf Rdisop.buildbin-libdir && mkdir Rdisop.buildbin-libdir && F:\biocbuild\bbs-3.20-bioc\R\bin\R.exe CMD INSTALL --build --library=Rdisop.buildbin-libdir Rdisop_1.66.0.tar.gz StartedAt: 2025-02-04 09:17:38 -0500 (Tue, 04 Feb 2025) EndedAt: 2025-02-04 09:18:50 -0500 (Tue, 04 Feb 2025) EllapsedTime: 71.7 seconds RetCode: 0 Status: OK PackageFile: Rdisop_1.66.0.zip PackageFileSize: 529.7 KiB