Package: Rdisop Version: 1.66.0 Command: chmod a+r Rdisop -R && F:\biocbuild\bbs-3.20-bioc\R\bin\R.exe CMD build --keep-empty-dirs --no-resave-data Rdisop StartedAt: 2025-02-03 21:34:39 -0500 (Mon, 03 Feb 2025) EndedAt: 2025-02-03 21:36:09 -0500 (Mon, 03 Feb 2025) EllapsedTime: 89.8 seconds RetCode: 0 Status: OK PackageFile: Rdisop_1.66.0.tar.gz PackageFileSize: 686.1 KiB