Package: ReactomeContentService4R Version: 1.14.0 Command: /Library/Frameworks/R.framework/Resources/bin/R CMD build --keep-empty-dirs --no-resave-data ReactomeContentService4R StartedAt: 2025-02-04 06:22:41 -0500 (Tue, 04 Feb 2025) EndedAt: 2025-02-04 06:23:26 -0500 (Tue, 04 Feb 2025) EllapsedTime: 45.1 seconds RetCode: 0 Status: OK PackageFile: ReactomeContentService4R_1.14.0.tar.gz PackageFileSize: 2.281 MiB