Package: ReactomeContentService4R Version: 1.14.0 Command: /Library/Frameworks/R.framework/Resources/bin/R CMD build --keep-empty-dirs --no-resave-data ReactomeContentService4R StartedAt: 2025-02-03 21:36:46 -0500 (Mon, 03 Feb 2025) EndedAt: 2025-02-03 21:37:34 -0500 (Mon, 03 Feb 2025) EllapsedTime: 47.2 seconds RetCode: 0 Status: OK PackageFile: ReactomeContentService4R_1.14.0.tar.gz PackageFileSize: 2.281 MiB