Package: ReactomeContentService4R Version: 1.14.0 Command: /home/biocbuild/bbs-3.20-bioc/R/bin/R CMD build --keep-empty-dirs --no-resave-data --md5 ReactomeContentService4R StartedAt: 2025-02-03 18:55:36 -0500 (Mon, 03 Feb 2025) EndedAt: 2025-02-03 18:56:10 -0500 (Mon, 03 Feb 2025) EllapsedTime: 34.1 seconds RetCode: 0 Status: OK PackageFile: ReactomeContentService4R_1.14.0.tar.gz PackageFileSize: 2.283 MiB