Package: ReactomeContentService4R Version: 1.14.0 Command: /home/biocbuild/bbs-3.20-bioc/R/bin/R CMD check --install=check:ReactomeContentService4R.install-out.txt --library=/home/biocbuild/bbs-3.20-bioc/R/site-library --timings ReactomeContentService4R_1.14.0.tar.gz StartedAt: 2025-02-04 01:38:16 -0500 (Tue, 04 Feb 2025) EndedAt: 2025-02-04 01:39:10 -0500 (Tue, 04 Feb 2025) EllapsedTime: 53.1 seconds RetCode: 1 Status: ERROR CheckDir: ReactomeContentService4R.Rcheck Warnings: NA