Package: ReactomeContentService4R Version: 1.14.0 Command: /home/biocbuild/bbs-3.20-bioc/R/bin/R CMD INSTALL ReactomeContentService4R StartedAt: 2025-02-10 15:16:41 -0500 (Mon, 10 Feb 2025) EndedAt: 2025-02-10 15:16:56 -0500 (Mon, 10 Feb 2025) EllapsedTime: 15.0 seconds RetCode: 0 Status: OK