Package: ReactomeContentService4R Version: 1.14.0 Command: rm -rf ReactomeContentService4R.buildbin-libdir && mkdir ReactomeContentService4R.buildbin-libdir && F:\biocbuild\bbs-3.20-bioc\R\bin\R.exe CMD INSTALL --build --library=ReactomeContentService4R.buildbin-libdir ReactomeContentService4R_1.14.0.tar.gz StartedAt: 2025-02-04 09:17:51 -0500 (Tue, 04 Feb 2025) EndedAt: 2025-02-04 09:21:35 -0500 (Tue, 04 Feb 2025) EllapsedTime: 223.9 seconds RetCode: 0 Status: OK PackageFile: ReactomeContentService4R_1.14.0.zip PackageFileSize: 1.161 MiB