Package: ReactomeContentService4R Version: 1.14.0 Command: F:\biocbuild\bbs-3.20-bioc\R\bin\R.exe CMD check --no-multiarch --install=check:ReactomeContentService4R.install-out.txt --library=F:\biocbuild\bbs-3.20-bioc\R\library --no-vignettes --timings ReactomeContentService4R_1.14.0.tar.gz StartedAt: 2025-02-04 05:21:00 -0500 (Tue, 04 Feb 2025) EndedAt: 2025-02-04 05:21:38 -0500 (Tue, 04 Feb 2025) EllapsedTime: 38.3 seconds RetCode: 1 Status: ERROR CheckDir: ReactomeContentService4R.Rcheck Warnings: NA