Package: ReactomeContentService4R Version: 1.14.0 Command: /home/biocbuild/R/R/bin/R CMD INSTALL ReactomeContentService4R StartedAt: 2025-02-10 20:15:26 -0000 (Mon, 10 Feb 2025) EndedAt: 2025-02-10 20:16:01 -0000 (Mon, 10 Feb 2025) EllapsedTime: 35.1 seconds RetCode: 0 Status: OK