Package: ReactomeGSA Version: 1.20.0 Command: /home/biocbuild/bbs-3.20-bioc/R/bin/R CMD build --keep-empty-dirs --no-resave-data --md5 ReactomeGSA StartedAt: 2025-01-30 18:46:11 -0500 (Thu, 30 Jan 2025) EndedAt: 2025-01-30 18:50:00 -0500 (Thu, 30 Jan 2025) EllapsedTime: 228.3 seconds RetCode: 0 Status: OK PackageFile: ReactomeGSA_1.20.0.tar.gz PackageFileSize: 344.8 KiB