Package: ReactomeGSA Version: 1.20.0 Command: /home/biocbuild/bbs-3.20-bioc/R/bin/R CMD check --install=check:ReactomeGSA.install-out.txt --library=/home/biocbuild/bbs-3.20-bioc/R/site-library --timings ReactomeGSA_1.20.0.tar.gz StartedAt: 2025-01-31 01:27:50 -0500 (Fri, 31 Jan 2025) EndedAt: 2025-01-31 02:07:51 -0500 (Fri, 31 Jan 2025) EllapsedTime: 2400.1 seconds RetCode: None Status: TIMEOUT CheckDir: ReactomeGSA.Rcheck Warnings: NA