Package: ReactomeGraph4R
Version: 1.14.0
Command: /Library/Frameworks/R.framework/Resources/bin/R CMD build --keep-empty-dirs --no-resave-data ReactomeGraph4R
StartedAt: 2025-02-18 06:18:22 -0500 (Tue, 18 Feb 2025)
EndedAt: 2025-02-18 06:18:40 -0500 (Tue, 18 Feb 2025)
EllapsedTime: 18.2 seconds
RetCode: 0
Status: OK
PackageFile: ReactomeGraph4R_1.14.0.tar.gz
PackageFileSize: 942.2 <A href="http://en.wikipedia.org/wiki/KiB" target="_blank">KiB</A>