Package: ReactomeGraph4R Version: 1.14.0 Command: /Library/Frameworks/R.framework/Resources/bin/R CMD INSTALL ReactomeGraph4R StartedAt: 2025-02-03 16:01:44 -0500 (Mon, 03 Feb 2025) EndedAt: 2025-02-03 16:01:56 -0500 (Mon, 03 Feb 2025) EllapsedTime: 12.1 seconds RetCode: 0 Status: OK