Package: ReactomeGraph4R Version: 1.14.0 Command: /home/biocbuild/bbs-3.20-bioc/R/bin/R CMD build --keep-empty-dirs --no-resave-data --md5 ReactomeGraph4R StartedAt: 2025-02-17 18:41:45 -0500 (Mon, 17 Feb 2025) EndedAt: 2025-02-17 18:41:57 -0500 (Mon, 17 Feb 2025) EllapsedTime: 12.0 seconds RetCode: 0 Status: OK PackageFile: ReactomeGraph4R_1.14.0.tar.gz PackageFileSize: 943.9 <A href="http://en.wikipedia.org/wiki/KiB" target="_blank">KiB</A>