Package: ReadqPCR Version: 1.52.0 Command: /Library/Frameworks/R.framework/Resources/bin/R CMD check --install=check:ReadqPCR.install-out.txt --library=/Library/Frameworks/R.framework/Resources/library --no-vignettes --timings ReadqPCR_1.52.0.tar.gz StartedAt: 2025-02-05 06:56:09 -0500 (Wed, 05 Feb 2025) EndedAt: 2025-02-05 06:56:43 -0500 (Wed, 05 Feb 2025) EllapsedTime: 33.9 seconds RetCode: 0 Status: OK CheckDir: ReadqPCR.Rcheck Warnings: 0