Package: ReadqPCR Version: 1.52.0 Command: /home/biocbuild/bbs-3.20-bioc/R/bin/R CMD build --keep-empty-dirs --no-resave-data --md5 ReadqPCR StartedAt: 2025-02-03 18:55:49 -0500 (Mon, 03 Feb 2025) EndedAt: 2025-02-03 18:55:57 -0500 (Mon, 03 Feb 2025) EllapsedTime: 8.0 seconds RetCode: 0 Status: OK PackageFile: ReadqPCR_1.52.0.tar.gz PackageFileSize: 492.3 KiB