Package: ReadqPCR Version: 1.52.0 Command: /home/biocbuild/bbs-3.20-bioc/R/bin/R CMD INSTALL ReadqPCR StartedAt: 2025-02-03 15:15:03 -0500 (Mon, 03 Feb 2025) EndedAt: 2025-02-03 15:15:17 -0500 (Mon, 03 Feb 2025) EllapsedTime: 14.3 seconds RetCode: 0 Status: OK