Package: RedeR Version: 3.2.0 Command: /Library/Frameworks/R.framework/Resources/bin/R CMD build --keep-empty-dirs --no-resave-data RedeR StartedAt: 2025-01-31 06:15:52 -0500 (Fri, 31 Jan 2025) EndedAt: 2025-01-31 06:16:09 -0500 (Fri, 31 Jan 2025) EllapsedTime: 17.0 seconds RetCode: 0 Status: OK PackageFile: RedeR_3.2.0.tar.gz PackageFileSize: 4.346 MiB