Package: RedeR Version: 3.2.0 Command: /Library/Frameworks/R.framework/Resources/bin/R CMD check --install=check:RedeR.install-out.txt --library=/Library/Frameworks/R.framework/Resources/library --no-vignettes --timings RedeR_3.2.0.tar.gz StartedAt: 2025-02-01 06:12:39 -0500 (Sat, 01 Feb 2025) EndedAt: 2025-02-01 06:13:22 -0500 (Sat, 01 Feb 2025) EllapsedTime: 42.8 seconds RetCode: 0 Status: OK CheckDir: RedeR.Rcheck Warnings: 0