Package: RedeR Version: 3.2.0 Command: /home/biocbuild/R/R/bin/R CMD check --install=check:RedeR.install-out.txt --library=/home/biocbuild/R/R/site-library --no-vignettes --timings RedeR_3.2.0.tar.gz StartedAt: 2024-11-20 11:31:27 -0000 (Wed, 20 Nov 2024) EndedAt: 2024-11-20 11:32:10 -0000 (Wed, 20 Nov 2024) EllapsedTime: 43.1 seconds RetCode: 0 Status: OK CheckDir: RedeR.Rcheck Warnings: 0