Package: RedeR Version: 3.2.0 Command: /Library/Frameworks/R.framework/Resources/bin/R CMD check --install=check:RedeR.install-out.txt --library=/Library/Frameworks/R.framework/Resources/library --no-vignettes --timings RedeR_3.2.0.tar.gz StartedAt: 2025-01-31 08:44:27 -0500 (Fri, 31 Jan 2025) EndedAt: 2025-01-31 08:45:49 -0500 (Fri, 31 Jan 2025) EllapsedTime: 81.4 seconds RetCode: 0 Status: OK CheckDir: RedeR.Rcheck Warnings: 0