Package: RedeR Version: 3.2.0 Command: /Library/Frameworks/R.framework/Resources/bin/R CMD INSTALL RedeR StartedAt: 2025-01-30 15:14:47 -0500 (Thu, 30 Jan 2025) EndedAt: 2025-01-30 15:14:59 -0500 (Thu, 30 Jan 2025) EllapsedTime: 11.5 seconds RetCode: 0 Status: OK