Package: RedeR Version: 3.2.0 Command: /home/biocbuild/R/R/bin/R CMD check --install=check:RedeR.install-out.txt --library=/home/biocbuild/R/R/site-library --no-vignettes --timings RedeR_3.2.0.tar.gz StartedAt: 2025-01-31 09:34:51 -0000 (Fri, 31 Jan 2025) EndedAt: 2025-01-31 09:35:28 -0000 (Fri, 31 Jan 2025) EllapsedTime: 37.0 seconds RetCode: 0 Status: OK CheckDir: RedeR.Rcheck Warnings: 0