Package: RedisParam Version: 1.8.0 Command: /Library/Frameworks/R.framework/Resources/bin/R CMD build --keep-empty-dirs --no-resave-data RedisParam StartedAt: 2025-02-03 21:37:42 -0500 (Mon, 03 Feb 2025) EndedAt: 2025-02-03 21:38:00 -0500 (Mon, 03 Feb 2025) EllapsedTime: 17.3 seconds RetCode: 0 Status: OK PackageFile: RedisParam_1.8.0.tar.gz PackageFileSize: 950.4 KiB