Package: RedisParam Version: 1.8.0 Command: /Library/Frameworks/R.framework/Resources/bin/R CMD check --install=check:RedisParam.install-out.txt --library=/Library/Frameworks/R.framework/Resources/library --no-vignettes --timings RedisParam_1.8.0.tar.gz StartedAt: 2025-02-04 08:43:09 -0500 (Tue, 04 Feb 2025) EndedAt: 2025-02-04 08:44:12 -0500 (Tue, 04 Feb 2025) EllapsedTime: 62.7 seconds RetCode: 0 Status: OK CheckDir: RedisParam.Rcheck Warnings: 0